BEGIN:VCALENDAR
VERSION:2.0
PRODID:-//Abbott Memorial Library - ECPv5.10.0//NONSGML v1.0//EN
CALSCALE:GREGORIAN
METHOD:PUBLISH
X-WR-CALNAME:Abbott Memorial Library
X-ORIGINAL-URL:https://www2.abbott-library.com
X-WR-CALDESC:Events for Abbott Memorial Library
BEGIN:VTIMEZONE
TZID:America/New_York
BEGIN:DAYLIGHT
TZOFFSETFROM:-0500
TZOFFSETTO:-0400
TZNAME:EDT
DTSTART:20220313T070000
END:DAYLIGHT
BEGIN:STANDARD
TZOFFSETFROM:-0400
TZOFFSETTO:-0500
TZNAME:EST
DTSTART:20221106T060000
END:STANDARD
END:VTIMEZONE
BEGIN:VEVENT
DTSTART;TZID=America/New_York:20221104T100000
DTEND;TZID=America/New_York:20221104T103000
DTSTAMP:20260419T223528
CREATED:20221020T140933Z
LAST-MODIFIED:20221020T140935Z
UID:1878-1667556000-1667557800@www2.abbott-library.com
SUMMARY:Preschool Storytime
DESCRIPTION:
URL:https://www2.abbott-library.com/index.php/event/preschool-storytime-11/
END:VEVENT
END:VCALENDAR