BEGIN:VCALENDAR
VERSION:2.0
PRODID:-//Abbott Memorial Library - ECPv5.10.0//NONSGML v1.0//EN
CALSCALE:GREGORIAN
METHOD:PUBLISH
X-WR-CALNAME:Abbott Memorial Library
X-ORIGINAL-URL:https://www2.abbott-library.com
X-WR-CALDESC:Events for Abbott Memorial Library
BEGIN:VTIMEZONE
TZID:America/New_York
BEGIN:DAYLIGHT
TZOFFSETFROM:-0500
TZOFFSETTO:-0400
TZNAME:EDT
DTSTART:20250309T070000
END:DAYLIGHT
BEGIN:STANDARD
TZOFFSETFROM:-0400
TZOFFSETTO:-0500
TZNAME:EST
DTSTART:20251102T060000
END:STANDARD
END:VTIMEZONE
BEGIN:VEVENT
DTSTART;TZID=America/New_York:20250710T110000
DTEND;TZID=America/New_York:20250710T130000
DTSTAMP:20260421T095303
CREATED:20250703T185258Z
LAST-MODIFIED:20250703T185259Z
UID:6279-1752145200-1752152400@www2.abbott-library.com
SUMMARY:Picnic in the Park (Wayside)
DESCRIPTION:
URL:https://www2.abbott-library.com/index.php/event/picnic-in-the-park-wayside/
END:VEVENT
END:VCALENDAR