BEGIN:VCALENDAR
VERSION:2.0
PRODID:-//Abbott Memorial Library - ECPv5.10.0//NONSGML v1.0//EN
CALSCALE:GREGORIAN
METHOD:PUBLISH
X-WR-CALNAME:Abbott Memorial Library
X-ORIGINAL-URL:https://www2.abbott-library.com
X-WR-CALDESC:Events for Abbott Memorial Library
BEGIN:VTIMEZONE
TZID:America/New_York
BEGIN:DAYLIGHT
TZOFFSETFROM:-0500
TZOFFSETTO:-0400
TZNAME:EDT
DTSTART:20250309T070000
END:DAYLIGHT
BEGIN:STANDARD
TZOFFSETFROM:-0400
TZOFFSETTO:-0500
TZNAME:EST
DTSTART:20251102T060000
END:STANDARD
END:VTIMEZONE
BEGIN:VEVENT
DTSTART;TZID=America/New_York:20251231T130000
DTEND;TZID=America/New_York:20251231T150000
DTSTAMP:20260421T081917
CREATED:20251031T184701Z
LAST-MODIFIED:20251031T184702Z
UID:6556-1767186000-1767193200@www2.abbott-library.com
SUMMARY:Nonfiction Book Club
DESCRIPTION:
URL:https://www2.abbott-library.com/index.php/event/nonfiction-book-club-18/
END:VEVENT
END:VCALENDAR